BEGIN:VCALENDAR
VERSION:2.0
PRODID:-//ChamberMaster//Event Calendar 2.0//EN
METHOD:PUBLISH
X-PUBLISHED-TTL:P3D
REFRESH-INTERVAL:P3D
CALSCALE:GREGORIAN
BEGIN:VEVENT
DTSTART;VALUE=DATE:20250716
DTEND;VALUE=DATE:20250721
TRANSP:TRANSPARENT
X-MICROSOFT-CDO-ALLDAYEVENT:TRUE
SUMMARY:15th Annual Prescott Film Festival
DESCRIPTION:Come help celebrate the 15h Annual Prescott Film Festival July 16-20\, 2025! Fantastic films and workshops on the Prescott Campus of Yavapai College\, The Hazeltine Theater\, The Hendrix at Mile High Middle School. On the final day is the silent film\, Tom Mix's Sky High with the Monte Alto Motion Picture Orchestra at the historic Elks Theater and Performing Arts Center. Parties\, gourmet food\, guest filmmakers
X-ALT-DESC;FMTTYPE=text/html:Come help celebrate the 15h Annual Prescott Film Festival July 16-20\, 2025! Fantastic films and workshops on the Prescott Campus of Yavapai College\, The Hazeltine Theater\, The Hendrix at Mile High Middle School. On the final day is the silent film\, Tom Mix&rsquo\;s Sky High with the Monte Alto Motion Picture Orchestra at the historic Elks Theater and Performing Arts Center. Parties\, gourmet food\, guest filmmakers
LOCATION:Jim & Linda Lee Performing Arts Center\, Yavapai College\, 1100 E Sheldon Street
UID:e.1880.5851
SEQUENCE:3
DTSTAMP:20260421T101658Z
URL:https://business.chinovalley.org/events/details/15th-annual-prescott-film-festival-5851
END:VEVENT

END:VCALENDAR
