BEGIN:VCALENDAR
VERSION:2.0
PRODID:-//ChamberMaster//Event Calendar 2.0//EN
METHOD:PUBLISH
X-PUBLISHED-TTL:P3D
REFRESH-INTERVAL:P3D
CALSCALE:GREGORIAN
BEGIN:VEVENT
DTSTART;VALUE=DATE:20250829
DTEND;VALUE=DATE:20250902
TRANSP:TRANSPARENT
X-MICROSOFT-CDO-ALLDAYEVENT:TRUE
SUMMARY:2025 Chino Valley Territorial Days Weekend Events
DESCRIPTION:CHINO VALLEY TERRITORIAL DAYS WEEKEND\n\nAUGUST 29TH-SEPTEMBER 1ST\n\n\n\n"Turning Through Time:  From Wagon Wheels to Windmills"\n\n\n\nFriday\, August 29th\, 2025\n\n2 PM Historical Presentation - At the Library:  Palomino Road & N Road 1W\n\n7:45 PM: Movie in the Park "Home on the Range" - At Memory Park:  Palomino Road & N Road 1 W\n\n\n\nSaturday\, Augsut 30\, 2025\n\nAt Memory Park:  Palomino Road & N Road 1 W\n\n6 AM:  Lions Pancake Breakfast - Ends at 10 AM  $8/person\, 5 and under free  (sign up at Chino Valley AZ Morning Lions Facebook page)\n\n7 AM:  10K & 2 Mile Walk/Run - Call 480-220-5058 to register\n\n8 AM:   Vendors in the Park until 12:30 PM\, so sign up call 714-651-7648\n\n9 AM:  Territorial Days Parade! - Registration is $35.00\, Call 928-636-8593 and ask for Leah  \n\n10 AM: Food\, Musical Acts\, Games & Carnival Activities until 1:00 PM\n\n3 PM:  FFA Corn Dinner - At Del Rio Elementary School:  1036 N. Rd 1 West\n\n\n\nSunday\, August 31\, 2025\n\n9 AM:  Car Show at Aquatic Center - Until 1 PM\, 1615 N. Road 1 E\n\n3 PM:  Free Swim until 9 PM\, 1615 N. Road 1 E\n\n8 PM:  Fireworks - Corner of Perkinsville & N Old Home Manor.  Gate open at 6:30 PM wit music and food trucks.   Fireworks will start after dark\n\n\n\nMonday September 1\, 2025\n\n8AM:  Intro to Pickleball - Hosted by Chino alley Pickleball Club at Community Center Park for more information email Cinovalleypickleball@gmail.com\n\n\n\nTo find ot more information\, contact Chino Valley Community Services 928-636-9780 or recreation@chinoaz.net
X-ALT-DESC;FMTTYPE=text/html:CHINO VALLEY TERRITORIAL DAYS WEEKEND<br />\nAUGUST 29TH-SEPTEMBER 1ST<br />\n<br />\n&quot\;Turning Through Time:&nbsp\; From Wagon Wheels to Windmills&quot\;<br />\n<br />\n<u><strong>Friday\, August 29th\, 2025</strong></u><br />\n2 PM Historical Presentation - At the Library:&nbsp\; Palomino Road &amp\; N Road 1W<br />\n7:45 PM: Movie in the Park &ldquo\;Home on the Range&rdquo\; - At Memory Park:&nbsp\; Palomino Road &amp\; N Road 1 W<br />\n<br />\n<u><strong>Saturday\, Augsut 30\, 2025</strong></u><br />\nAt Memory Park:&nbsp\; Palomino Road &amp\; N Road 1 W<br />\n6 AM:&nbsp\; Lions Pancake Breakfast - Ends at 10 AM&nbsp\; $8/person\, 5 and under free&nbsp\; (sign up at Chino Valley AZ Morning Lions Facebook page)<br />\n7 AM:&nbsp\; 10K &amp\; 2 Mile Walk/Run - Call 480-220-5058 to register<br />\n8 AM:&nbsp\; &nbsp\;Vendors in the Park until 12:30 PM\, so sign up call 714-651-7648<br />\n9 AM:&nbsp\; Territorial Days Parade! - Registration is $35.00\, Call 928-636-8593 and ask for Leah&nbsp\;&nbsp\;<br />\n10 AM: Food\, Musical Acts\, Games &amp\; Carnival Activities until 1:00 PM<br />\n3 PM:&nbsp\; FFA Corn Dinner - At Del Rio Elementary School:&nbsp\; 1036 N. Rd 1 West<br />\n<br />\n<u><strong>Sunday\, August 31\, 2025</strong></u><br />\n9 AM:&nbsp\; Car Show at Aquatic Center - Until 1 PM\, 1615 N. Road 1 E<br />\n3 PM:&nbsp\; Free Swim until 9 PM\, 1615 N. Road 1 E<br />\n8 PM:&nbsp\; Fireworks - Corner of Perkinsville &amp\; N Old Home Manor.&nbsp\; Gate open at 6:30 PM wit music and food trucks.&nbsp\; &nbsp\;Fireworks will start after dark<br />\n<br />\nMonday September 1\, 2025<br />\n8AM:&nbsp\; Intro to Pickleball - Hosted by Chino alley Pickleball Club at Community Center Park for more information email Cinovalleypickleball@gmail.com<br />\n<br />\nTo find ot more information\, contact Chino Valley Community Services 928-636-9780 or recreation@chinoaz.net&nbsp\;<br />\n<br />\n<br />\n&nbsp\;
LOCATION:Depending on the event various locations.
UID:e.1880.6021
SEQUENCE:3
DTSTAMP:20260419T133515Z
URL:https://business.chinovalley.org/events/details/2025-chino-valley-territorial-days-weekend-events-6021
END:VEVENT

END:VCALENDAR
