BEGIN:VCALENDAR
VERSION:2.0
PRODID:-//ChamberMaster//Event Calendar 2.0//EN
METHOD:PUBLISH
X-PUBLISHED-TTL:P3D
REFRESH-INTERVAL:P3D
CALSCALE:GREGORIAN
BEGIN:VEVENT
DTSTART:20251011T170000Z
DTEND:20251011T210000Z
X-MICROSOFT-CDO-ALLDAYEVENT:FALSE
SUMMARY:2025 Harvest Festival Craft Show Exhibitors' 2025 Vendor Application
DESCRIPTION:Booth space is $50.00 per 11' x 11' area  \n\n  Payment required to assure spot       \n\n- NO Electricity\n\n- Deadline for applications is Sept. 26\n\n- Reservations based on availability\n\n- No refunds for no-shows\n\n- Location maps available August 1\n\n- Set Up & check in begins at 8:00am\n\nYOU MUST BRING:\n\nChairs   Tables   Pop-ups\n\n\n\nWE DO NOT PROVIDE THESE!
X-ALT-DESC;FMTTYPE=text/html:<span style="font-size:14px\;"><span style="font-family:arial\;">Booth space is <strong>$50.00 </strong>per 11&rsquo\; x 11&rsquo\; area &nbsp\;<br />\n&nbsp\; <strong>Payment required to assure spot&nbsp\;&nbsp\;&nbsp\;&nbsp\;&nbsp\;&nbsp\; </strong><br />\n- <strong>NO</strong> Electricity<br />\n- Deadline for applications is <strong>Sept. 26</strong><br />\n- Reservations based on availability<br />\n- No refunds for no-shows<br />\n- Location maps available <strong>August 1</strong><br />\n- Set Up &amp\; check in begins at 8:00am<br />\n<strong>YOU MUST BRING:</strong><br />\n<strong>Chairs &ndash\; Tables &ndash\; Pop-ups</strong><br />\n<br />\n<strong>WE DO NOT PROVIDE THESE!</strong></span></span><br />\n<br />\n&nbsp\;
LOCATION:Location: YC Chino Valley Agribusiness & Science Center 2275 Old Home Manor Dr.\, Chino Valley\, AZ 86323
UID:e.1880.6008
SEQUENCE:3
DTSTAMP:20260419T162710Z
URL:https://business.chinovalley.org/events/details/2025-harvest-festival-craft-show-exhibitors-2025-vendor-application-6008
END:VEVENT

END:VCALENDAR
