BEGIN:VCALENDAR
VERSION:2.0
PRODID:-//ChamberMaster//Event Calendar 2.0//EN
METHOD:PUBLISH
X-PUBLISHED-TTL:P3D
REFRESH-INTERVAL:P3D
CALSCALE:GREGORIAN
BEGIN:VEVENT
DTSTART:20251007T150000Z
DTEND:20251007T210000Z
X-MICROSOFT-CDO-ALLDAYEVENT:FALSE
SUMMARY:2025 People Who Care Golf Tournament
DESCRIPTION:Annual Fundraiser - People Who Care Golf Tournament - 18 holes\, lunch
X-ALT-DESC;FMTTYPE=text/html:Annual Fundraiser - People Who Care Golf Tournament - 18 holes\, lunch
LOCATION:Club at Prescott Lakes
UID:e.1880.5974
SEQUENCE:3
DTSTAMP:20260419T162505Z
URL:https://business.chinovalley.org/events/details/2025-people-who-care-golf-tournament-5974
END:VEVENT

END:VCALENDAR
