BEGIN:VCALENDAR
VERSION:2.0
PRODID:-//ChamberMaster//Event Calendar 2.0//EN
METHOD:PUBLISH
X-PUBLISHED-TTL:P3D
REFRESH-INTERVAL:P3D
CALSCALE:GREGORIAN
BEGIN:VEVENT
DTSTART:20251007T010000Z
DTEND:20251007T030000Z
X-MICROSOFT-CDO-ALLDAYEVENT:FALSE
SUMMARY:2025 People Who Care Golf Tournament Reception
DESCRIPTION:An evening with retired NBA Player Rick Barry\, Guest Host. Silent Auction. For major sponsors\, major donors to People Who Care and invited guests.
X-ALT-DESC;FMTTYPE=text/html:An evening with retired NBA Player Rick Barry\, Guest Host. Silent Auction. For major sponsors\, major donors to People Who Care and invited guests.
LOCATION:Club at Prescott Lakes\, 311 E. Smoke Tree Lane\, Prescott 86301
UID:e.1880.5973
SEQUENCE:3
DTSTAMP:20260419T162205Z
URL:https://business.chinovalley.org/events/details/2025-people-who-care-golf-tournament-reception-5973
END:VEVENT

END:VCALENDAR
