BEGIN:VCALENDAR
VERSION:2.0
PRODID:-//ChamberMaster//Event Calendar 2.0//EN
METHOD:PUBLISH
X-PUBLISHED-TTL:P3D
REFRESH-INTERVAL:P3D
CALSCALE:GREGORIAN
BEGIN:VEVENT
DTSTART:20251124T190000Z
DTEND:20251125T010000Z
X-MICROSOFT-CDO-ALLDAYEVENT:FALSE
SUMMARY:23rd Annual Flying High Turkey Drive
DESCRIPTION:Join the area Chamber of Commerce's in making a difference this holiday season! Help provide turkeys and all the fixings for families in need within the community. Every donation makes the meter climb higher at this fun event! The goal is 1\,500 turkeys for those in need. Can't make it in person? You can still show your support by making a tax-deductible donation online.
X-ALT-DESC;FMTTYPE=text/html:Join the area Chamber of Commerce&#39\;s in making a difference this holiday season! Help provide turkeys and all the fixings for families in need within the community. Every donation makes the meter climb higher at this fun event! The goal is 1\,500 turkeys for those in need. Can&rsquo\;t make it in person? You can still show your support by making a tax-deductible donation online.
LOCATION:All three Fry's locations in Prescott and Prescott Valley.
UID:e.1880.6103
SEQUENCE:3
DTSTAMP:20260419T180451Z
URL:https://business.chinovalley.org/events/details/23rd-annual-flying-high-turkey-drive-6103
END:VEVENT

END:VCALENDAR
