BEGIN:VCALENDAR
VERSION:2.0
PRODID:-//ChamberMaster//Event Calendar 2.0//EN
METHOD:PUBLISH
X-PUBLISHED-TTL:P3D
REFRESH-INTERVAL:P3D
CALSCALE:GREGORIAN
BEGIN:VEVENT
DTSTART:20251130T010000Z
DTEND:20251130T040000Z
X-MICROSOFT-CDO-ALLDAYEVENT:FALSE
SUMMARY:28th Annual Holiday Light Parade
DESCRIPTION:This year's parade theme is Stars\, Stripes and Christmas Lights: A Patriotic Holiday Salute. The parade will have over 100 entries for the whole family to enjoy. Presented by the Prescott Chamber of Commerce and presenting sponsor Findlay Auto Group. Photos with Santa and Mrs. Claus available 3-5 p.m. The Courthouse Lighting event will be held following the parade.
X-ALT-DESC;FMTTYPE=text/html:This year&rsquo\;s parade theme is Stars\, Stripes and Christmas Lights: A Patriotic Holiday Salute. The parade will have over 100 entries for the whole family to enjoy. Presented by the Prescott Chamber of Commerce and presenting sponsor Findlay Auto Group. Photos with Santa and Mrs. Claus available 3-5 p.m. The Courthouse Lighting event will be held following the parade.
LOCATION:Courthouse Plaza
UID:e.1880.6107
SEQUENCE:3
DTSTAMP:20260419T180328Z
URL:https://business.chinovalley.org/events/details/28th-annual-holiday-light-parade-6107
END:VEVENT

END:VCALENDAR
