BEGIN:VCALENDAR
VERSION:2.0
PRODID:-//ChamberMaster//Event Calendar 2.0//EN
METHOD:PUBLISH
X-PUBLISHED-TTL:P3D
REFRESH-INTERVAL:P3D
CALSCALE:GREGORIAN
BEGIN:VEVENT
DTSTART:20251213T003000Z
DTEND:20251213T033000Z
X-MICROSOFT-CDO-ALLDAYEVENT:FALSE
SUMMARY:37th Annual Acker Night
DESCRIPTION:This is a FREE downtown event for everyone. The streets in downtown Prescott are closed and the businesses open their doors for a few hours for this wonderful evening event. The Christmas lights are gleaming\, and music fills the air for this special night. When you see a "Tips for Scholarships" bag in front of a performer\, your donations go to the Quad-Cities school age children for music lessons. Depending on how much is donated each year\, we also donate to our local school district's music department\, since the arts are the first to get budget cuts. We also\, with donations permitting\, repair local school music department instruments\, help send special musicians and groups on to bigger competitions and have purchased or given instruments for those in need.
X-ALT-DESC;FMTTYPE=text/html:This is a FREE downtown event for everyone. The streets in downtown Prescott are closed and the businesses open their doors for a few hours for this wonderful evening event. The Christmas lights are gleaming\, and music fills the air for this special night. When you see a &quot\;Tips for Scholarships&quot\; bag in front of a performer\, your donations go to the Quad-Cities school age children for music lessons. Depending on how much is donated each year\, we also donate to our local school district&#39\;s music department\, since the arts are the first to get budget cuts. We also\, with donations permitting\, repair local school music department instruments\, help send special musicians and groups on to bigger competitions and have purchased or given instruments for those in need.
LOCATION:Downtown Prescott
UID:e.1880.6110
SEQUENCE:3
DTSTAMP:20260421T220220Z
URL:https://business.chinovalley.org/events/details/37th-annual-acker-night-6110
END:VEVENT

END:VCALENDAR
