BEGIN:VCALENDAR
VERSION:2.0
PRODID:-//ChamberMaster//Event Calendar 2.0//EN
METHOD:PUBLISH
X-PUBLISHED-TTL:P3D
REFRESH-INTERVAL:P3D
CALSCALE:GREGORIAN
BEGIN:VEVENT
DTSTART:20251207T000000Z
DTEND:20251207T020000Z
X-MICROSOFT-CDO-ALLDAYEVENT:FALSE
SUMMARY:71st annual Courthouse Lighting & Fireworks
DESCRIPTION:This time-honored tradition is the must-see event of the year in Arizona's Christmas City! Takes place at the Yavapai County Courthouse Plaza in downtown Prescott. Music starts at 5 p.m. and the ceremony will begin at 6 p.m.\, followed by the Courthouse lighting. The lighting display will continue through Jan. 18.
X-ALT-DESC;FMTTYPE=text/html:This time-honored tradition is the must-see event of the year in Arizona&rsquo\;s Christmas City! Takes place at the Yavapai County Courthouse Plaza in downtown Prescott. Music starts at 5 p.m. and the ceremony will begin at 6 p.m.\, followed by the Courthouse lighting. The lighting display will continue through Jan. 18.
LOCATION:Courthouse Plaza
UID:e.1880.6108
SEQUENCE:3
DTSTAMP:20260421T203444Z
URL:https://business.chinovalley.org/events/details/71st-annual-courthouse-lighting-fireworks-6108
END:VEVENT

END:VCALENDAR
