BEGIN:VCALENDAR
VERSION:2.0
PRODID:-//ChamberMaster//Event Calendar 2.0//EN
METHOD:PUBLISH
X-PUBLISHED-TTL:P3D
REFRESH-INTERVAL:P3D
CALSCALE:GREGORIAN
BEGIN:VEVENT
DTSTART:20251213T160000Z
DTEND:20251213T220000Z
X-MICROSOFT-CDO-ALLDAYEVENT:FALSE
SUMMARY:8th Annual Christmas Cookie Walk
DESCRIPTION:Our members are busy making delicious home-baked Christmas cookies\, Heavenly Fudge\, jams and crafts. Proceeds are used to support and give back to our community.
X-ALT-DESC;FMTTYPE=text/html:Our members are busy making delicious home-baked Christmas cookies\, Heavenly Fudge\, jams and crafts. Proceeds are used to support and give back to our community.
LOCATION:All Saints Anglican Church Parish hall 1806 Savage Lane N Prescott\, 86301
UID:e.1880.6100
SEQUENCE:3
DTSTAMP:20260421T203518Z
URL:https://business.chinovalley.org/events/details/8th-annual-christmas-cookie-walk-6100
END:VEVENT

END:VCALENDAR
