BEGIN:VCALENDAR
VERSION:2.0
PRODID:-//ChamberMaster//Event Calendar 2.0//EN
METHOD:PUBLISH
X-PUBLISHED-TTL:P3D
REFRESH-INTERVAL:P3D
CALSCALE:GREGORIAN
BEGIN:VEVENT
DTSTART:20250914T010000Z
DTEND:20250914T030000Z
X-MICROSOFT-CDO-ALLDAYEVENT:FALSE
SUMMARY:Art At The Armory Paint & Sip
DESCRIPTION:Art At The Armory Paint & Sip Benefits Our Local National Guard International Artist Jenny Rose Harlow / Live Auction
X-ALT-DESC;FMTTYPE=text/html:Art At The Armory Paint &amp\; Sip Benefits Our Local National Guard International Artist Jenny Rose Harlow / Live Auction
LOCATION:National Guard Armory 1500 Heritage Park Road Prescott\, AZ 86301
UID:e.1880.6032
SEQUENCE:3
DTSTAMP:20260419T144216Z
URL:https://business.chinovalley.org/events/details/art-at-the-armory-paint-sip-6032
END:VEVENT

END:VCALENDAR
