BEGIN:VCALENDAR
VERSION:2.0
PRODID:-//ChamberMaster//Event Calendar 2.0//EN
METHOD:PUBLISH
X-PUBLISHED-TTL:P3D
REFRESH-INTERVAL:P3D
CALSCALE:GREGORIAN
BEGIN:VEVENT
DTSTART:20250712T160000Z
DTEND:20250712T190000Z
X-MICROSOFT-CDO-ALLDAYEVENT:FALSE
SUMMARY:Become a Community Coach
DESCRIPTION:Volunteer coaches help build and strengthen our communities while giving formerly incarcerated individuals the opportunity   for community support   to create hope for their future   to restore and rebuild their lives Receive free training to learn needed skills for working one-on-one in helping provide referrals\, emotional support and resources for former inmates. No experience\, prior qualifications\, or education is needed. YavapaiReentryProject.org
X-ALT-DESC;FMTTYPE=text/html:Volunteer coaches help build and strengthen our communities while giving formerly incarcerated individuals the opportunity &bull\; for community support &bull\; to create hope for their future &bull\; to restore and rebuild their lives Receive free training to learn needed skills for working one-on-one in helping provide referrals\, emotional support and resources for former inmates. No experience\, prior qualifications\, or education is needed. YavapaiReentryProject.org
LOCATION:MATFORCE/YRP Office 8056 E. Valley Rd.\, Suite. B\, Prescott Valley
UID:e.1880.5988
SEQUENCE:3
DTSTAMP:20260421T084305Z
URL:https://business.chinovalley.org/events/details/become-a-community-coach-07-12-2025-5988
END:VEVENT

END:VCALENDAR
