BEGIN:VCALENDAR
VERSION:2.0
PRODID:-//ChamberMaster//Event Calendar 2.0//EN
METHOD:PUBLISH
X-PUBLISHED-TTL:P3D
REFRESH-INTERVAL:P3D
CALSCALE:GREGORIAN
BEGIN:VEVENT
DTSTART:20260613T160000Z
DTEND:20260613T173000Z
X-MICROSOFT-CDO-ALLDAYEVENT:FALSE
SUMMARY:Breakfast with the Lemurs
DESCRIPTION:Join us for Breakfast with the Lemurs! Enjoy a light breakfast while the featured animal is being fed. Zookeepers will give a talk about the animals\, share interesting facts\, show artifacts\, and include a fun activity. Pre-Registration is Required. You may register on our website\, Heritage Park Zoological Sanctuary\, under Events\, or call (928)778-4242. Adult $35\, Child (12 & under) $20.
X-ALT-DESC;FMTTYPE=text/html:Join us for Breakfast with the Lemurs! Enjoy a light breakfast while the featured animal is being fed. Zookeepers will give a talk about the animals\, share interesting facts\, show artifacts\, and include a fun activity. Pre-Registration is Required. You may register on our website\,&nbsp\;<a href="https://heritageparkzoo.org/">Heritage Park Zoological Sanctuary</a>\, under Events\, or call (928)778-4242. Adult $35\, Child (12 &amp\; under) $20.
LOCATION:Heritage Park Zoological Sanctuary 1403 Heritage Park Road Prescott\, AZ 86301
UID:e.1880.6366
SEQUENCE:3
DTSTAMP:20260422T055659Z
URL:https://business.chinovalley.org/events/details/breakfast-with-the-lemurs-06-13-2026-6366
END:VEVENT

END:VCALENDAR
