BEGIN:VCALENDAR
VERSION:2.0
PRODID:-//ChamberMaster//Event Calendar 2.0//EN
METHOD:PUBLISH
X-PUBLISHED-TTL:P3D
REFRESH-INTERVAL:P3D
CALSCALE:GREGORIAN
BEGIN:VEVENT
DTSTART:20260711T160000Z
DTEND:20260711T173000Z
X-MICROSOFT-CDO-ALLDAYEVENT:FALSE
SUMMARY:Breakfast with the Tortoise & Friends
DESCRIPTION:Join us for Breakfast with the Tortoise & Friends! Enjoy a light breakfast while the featured animal is being fed. Zookeepers will give a talk about the animals\, share interesting facts\, show artifacts\, and include a fun activity. Pre-Registration is Required. You may register on our website under Events\, or call (928)778-4242. Adult $35\, Child (12 & under) $20.\n\nHeritage Park Zoological Sanctuary
X-ALT-DESC;FMTTYPE=text/html:Join us for Breakfast with the Tortoise &amp\; Friends! Enjoy a light breakfast while the featured animal is being fed. Zookeepers will give a talk about the animals\, share interesting facts\, show artifacts\, and include a fun activity. Pre-Registration is Required. You may register on our website under Events\, or call (928)778-4242. Adult $35\, Child (12 &amp\; under) $20.<br />\n<a href="https://heritageparkzoo.org/">Heritage Park Zoological Sanctuary</a>
LOCATION:Heritage Park Zoological Sanctuary 1403 Heritage Park Road Prescott\, AZ 86301
UID:e.1880.6371
SEQUENCE:3
DTSTAMP:20260422T074327Z
URL:https://business.chinovalley.org/events/details/breakfast-with-the-tortoise-friends-6371
END:VEVENT

END:VCALENDAR
