BEGIN:VCALENDAR
VERSION:2.0
PRODID:-//ChamberMaster//Event Calendar 2.0//EN
METHOD:PUBLISH
X-PUBLISHED-TTL:P3D
REFRESH-INTERVAL:P3D
CALSCALE:GREGORIAN
BEGIN:VEVENT
DTSTART:20250920T160000Z
DTEND:20250920T210000Z
X-MICROSOFT-CDO-ALLDAYEVENT:FALSE
SUMMARY:Car * Bike * Boat Show
DESCRIPTION:Chino Valley Elks Second Annual Car (Pre 1985) Bike & Boat Show Charity Event * Raffles * Arts & Craft Vendors * Family Fun * Music * 50/50 Drawing and More!
X-ALT-DESC;FMTTYPE=text/html:Chino Valley Elks Second Annual Car (Pre 1985) Bike &amp\; Boat Show Charity Event * Raffles * Arts &amp\; Craft Vendors * Family Fun * Music * 50/50 Drawing and More!
LOCATION:Memory Park Senior Center 1025 Butterfield Road Chino Valley\, AZ 86323
UID:e.1880.6031
SEQUENCE:3
DTSTAMP:20260419T145210Z
URL:https://business.chinovalley.org/events/details/car-bike-boat-show-6031
END:VEVENT

END:VCALENDAR
