BEGIN:VCALENDAR
VERSION:2.0
PRODID:-//ChamberMaster//Event Calendar 2.0//EN
METHOD:PUBLISH
X-PUBLISHED-TTL:P3D
REFRESH-INTERVAL:P3D
CALSCALE:GREGORIAN
BEGIN:VEVENT
DTSTART:20251015T000000Z
DTEND:20251015T013000Z
X-MICROSOFT-CDO-ALLDAYEVENT:FALSE
SUMMARY:Chino Chamber of Commerce Business After Hours October 14\, 2025
DESCRIPTION:Connect and network with your local business community in a relaxed and welcoming atmosphere designed to inspire meaningful conversations and new opportunities.
X-ALT-DESC;FMTTYPE=text/html:Connect and network with your local business community in a relaxed and welcoming atmosphere designed to inspire meaningful conversations and new opportunities.
LOCATION:Wild Sage Antiques & Boutiques\, 378 AZ State Route 89\, Chino Valley\, AZ 96323
UID:e.1880.6020
SEQUENCE:3
DTSTAMP:20260419T162509Z
URL:https://business.chinovalley.org/events/details/chino-chamber-of-commerce-business-after-hours-october-14-2025-6020
END:VEVENT

END:VCALENDAR
