BEGIN:VCALENDAR
VERSION:2.0
PRODID:-//ChamberMaster//Event Calendar 2.0//EN
METHOD:PUBLISH
X-PUBLISHED-TTL:P3D
REFRESH-INTERVAL:P3D
CALSCALE:GREGORIAN
BEGIN:VEVENT
DTSTART:20251018T123000Z
DTEND:20251019T013000Z
X-MICROSOFT-CDO-ALLDAYEVENT:FALSE
SUMMARY:Chino Grinder
DESCRIPTION:Arizona's Oldest and Most Iconic Gravel Grinder\, The Chino Grinder Has Earned It's Reputation As The Toughest Gravel Race In The West.
X-ALT-DESC;FMTTYPE=text/html:Arizona&#39\;s Oldest and Most Iconic Gravel Grinder\, The Chino Grinder Has Earned It&#39\;s Reputation As The Toughest Gravel Race In The West.
LOCATION:Chino Valley Community Center 1615 N. Road One E Chino Valley\, AZ 86323
UID:e.1880.6033
SEQUENCE:3
DTSTAMP:20260419T161758Z
URL:https://business.chinovalley.org/events/details/chino-grinder-6033
END:VEVENT

END:VCALENDAR
