BEGIN:VCALENDAR
VERSION:2.0
PRODID:-//ChamberMaster//Event Calendar 2.0//EN
METHOD:PUBLISH
X-PUBLISHED-TTL:P3D
REFRESH-INTERVAL:P3D
CALSCALE:GREGORIAN
BEGIN:VEVENT
DTSTART:20250806T000000Z
DTEND:20250806T013000Z
X-MICROSOFT-CDO-ALLDAYEVENT:FALSE
SUMMARY:Chino Valley Area Chamber of Commerce Business After Hours at Triple 3 Farm & Events
DESCRIPTION:Business After Hours   August Networking Event\n\nJoin the Chino Valley Area Chamber of Commerce for Business After Hours on Tuesday\, August 5\, 2025\, from 5:00 PM to 6:30 PM at Triple 3 Farm & Events (764 W. Road 1 South\, Chino Valley\, AZ).\n\nEnjoy a relaxed\, welcoming evening of networking with local professionals\, meaningful conversations\, and new opportunities   all at no cost!\n\n  Free to attend\n\n  Hosted by Triple 3 Farm & Events\n\n  RSVP at ChinoValley.org or call 928-636-2493\n\nDon't miss this chance to connect and grow your business community!
X-ALT-DESC;FMTTYPE=text/html:<p data-end="153" data-start="103"><strong data-end="153" data-start="103">Business After Hours &ndash\; August Networking Event</strong></p>\n\n<p data-end="363" data-start="155">Join the Chino Valley Area Chamber of Commerce for <strong data-end="230" data-start="206">Business After Hours</strong> on <strong data-end="261" data-start="234">Tuesday\, August 5\, 2025</strong>\, from <strong data-end="290" data-start="268">5:00 PM to 6:30 PM</strong> at <strong data-end="320" data-start="294">Triple 3 Farm &amp\; Events</strong> (764 W. Road 1 South\, Chino Valley\, AZ).</p>\n\n<p data-end="511" data-start="365">Enjoy a relaxed\, welcoming evening of <strong data-end="442" data-start="403">networking with local professionals</strong>\, meaningful conversations\, and new opportunities &mdash\; all at no cost!</p>\n\n<p data-end="656" data-start="513">&#127919\; <strong data-end="534" data-start="516">Free to attend</strong><br data-end="537" data-start="534" />\n&#128205\; Hosted by <strong data-end="576" data-start="550">Triple 3 Farm &amp\; Events</strong><br data-end="579" data-start="576" />\n&#128222\; RSVP at <a data-end="631" data-start="590" href="http://ChinoValley.org" rel="noopener" target="_new">ChinoValley.org</a> or call <strong data-end="656" data-start="640">928-636-2493</strong></p>\n\n<p data-end="725" data-start="658">Don&rsquo\;t miss this chance to connect and grow your business community!</p>\n
LOCATION:Triple 3 Farm & Events 764 W. Road 1 South Chino Valley\, AZ 86323
UID:e.1880.5989
SEQUENCE:3
DTSTAMP:20260419T133823Z
URL:https://business.chinovalley.org/events/details/chino-valley-area-chamber-of-commerce-business-after-hours-at-triple-3-farm-events-5989
END:VEVENT

END:VCALENDAR
