BEGIN:VCALENDAR
VERSION:2.0
PRODID:-//ChamberMaster//Event Calendar 2.0//EN
METHOD:PUBLISH
X-PUBLISHED-TTL:P3D
REFRESH-INTERVAL:P3D
CALSCALE:GREGORIAN
BEGIN:VEVENT
DTSTART:20261110T180000Z
DTEND:20261110T200000Z
X-MICROSOFT-CDO-ALLDAYEVENT:FALSE
SUMMARY:Chino Valley Area Chamber of Commerce - Lunch & Learn NOV 2026
DESCRIPTION:Chino Valley Area Chamber of Commerce June Lunch & Learn\nJoin us for the June edition of our Lunch & Learn series an excellent opportunity to connect with fellow professionals\, grow your knowledge\, and gain valuable insights from local leaders. This month's lunch will be generously hosted by : TBD\n\nWe're proud to feature industry experts speaking on : TBD
X-ALT-DESC;FMTTYPE=text/html:<h3 data-end="143" data-start="79"><span style="font-size:14px\;"><span style="font-family:tahoma\;"><strong data-end="143" data-start="83">Chino Valley Area Chamber of Commerce June Lunch &amp\; Learn</strong></span></span></h3>\n<span style="font-size:14px\;"><span style="font-family:tahoma\;">Join us for the June edition of our <strong data-end="198" data-start="181">Lunch &amp\; Learn</strong> series&mdash\;an excellent opportunity to connect with fellow professionals\, grow your knowledge\, and gain valuable insights from local leaders. This month&rsquo\;s lunch will be <strong data-end="413" data-start="364">generously hosted by : TBD</strong><br />\nWe&rsquo\;re proud to feature <strong data-end="488" data-start="439">industry experts speaking on : TBD</strong></span></span>
LOCATION:CHINO VALLEY POLICE DEPARTMENT TRAINING ROOM (2ND FLOOR) 220 N. HIGHWAY 89\, 86323
UID:e.1880.6173
SEQUENCE:3
DTSTAMP:20260422T134439Z
URL:https://business.chinovalley.org/events/details/chino-valley-area-chamber-of-commerce-lunch-learn-nov-2026-6173
END:VEVENT

END:VCALENDAR
