BEGIN:VCALENDAR
VERSION:2.0
PRODID:-//ChamberMaster//Event Calendar 2.0//EN
METHOD:PUBLISH
X-PUBLISHED-TTL:P3D
REFRESH-INTERVAL:P3D
CALSCALE:GREGORIAN
BEGIN:VEVENT
DTSTART:20260203T150000Z
DTEND:20260203T163000Z
X-MICROSOFT-CDO-ALLDAYEVENT:FALSE
SUMMARY:Chino Valley Business Spotlight & Connect
DESCRIPTION:Chino Valley Business Spotlight & Connect\n\nJoin the Chino Valley Area Chamber of Commerce for Business Spotlight & Connect\, a dynamic morning networking event designed to learn\, share\, and connect with local business and community leaders.\n\nThis event will feature short spotlight presentations from three local organizations\, giving attendees insight into their services\, impact\, and opportunities for collaboration. Between presentations\, guests will have time to network\, build relationships\, and strengthen connections within the Chino Valley business community.\n\nFeatured Speakers:\n\n\n	\n	John Stankewicz\, Founder & CEO\, Compass Training Center\n	\n	\n	Lee Iredell\, Financial Advisor\, Edward Jones Investments\n	\n	\n	Tom Stultz\, Transit Manager\, Yavapai Regional Transit
X-ALT-DESC;FMTTYPE=text/html:<p data-end="150" data-start="105"><strong data-end="150" data-start="105">Chino Valley Business Spotlight &amp\; Connect</strong></p>\n\n<p data-end="354" data-start="152">Join the Chino Valley Area Chamber of Commerce for <em data-end="233" data-start="203">Business Spotlight &amp\; Connect</em>\, a dynamic morning networking event designed to <strong data-end="311" data-start="282">learn\, share\, and connect</strong> with local business and community leaders.</p>\n\n<p data-end="681" data-start="356">This event will feature short spotlight presentations from three local organizations\, giving attendees insight into their services\, impact\, and opportunities for collaboration. Between presentations\, guests will have time to network\, build relationships\, and strengthen connections within the Chino Valley business community.</p>\n\n<p data-end="705" data-start="683"><strong data-end="705" data-start="683">Featured Speakers:</strong></p>\n\n<ul data-end="900" data-start="706">\n	<li data-end="771" data-start="706">\n	<p data-end="771" data-start="708"><strong data-end="727" data-start="708">John Stankewicz</strong>\, Founder &amp\; CEO\, <em data-end="769" data-start="744">Compass Training Center</em></p>\n	</li>\n	<li data-end="838" data-start="772">\n	<p data-end="838" data-start="774"><strong data-end="789" data-start="774">Lee Iredell</strong>\, Financial Advisor\, <em data-end="836" data-start="810">Edward Jones Investments</em></p>\n	</li>\n	<li data-end="900" data-start="839">\n	<p data-end="900" data-start="841"><strong data-end="855" data-start="841">Tom Stultz</strong>\, Transit Manager\, <em data-end="900" data-start="874">Yavapai Regional Transit</em></p>\n	</li>\n</ul>\n
LOCATION:Triple 3 Farm & Events 764 W. Rd 1 South\, Chino Valley\, AZ 86323
UID:e.1880.6132
SEQUENCE:3
DTSTAMP:20260422T011217Z
URL:https://business.chinovalley.org/events/details/chino-valley-business-spotlight-connect-6132
END:VEVENT

END:VCALENDAR
