BEGIN:VCALENDAR
VERSION:2.0
PRODID:-//ChamberMaster//Event Calendar 2.0//EN
METHOD:PUBLISH
X-PUBLISHED-TTL:P3D
REFRESH-INTERVAL:P3D
CALSCALE:GREGORIAN
BEGIN:VEVENT
DTSTART:20261208T163000Z
DTEND:20261208T183000Z
X-MICROSOFT-CDO-ALLDAYEVENT:FALSE
SUMMARY:Chino Valley Quilters Meeting
DESCRIPTION:Chino Valley Quilters Meeting
X-ALT-DESC;FMTTYPE=text/html:Chino Valley Quilters Meeting
LOCATION:Southern Baptist Church 1524 AZ 89 Chino Valley\, AZ 86323
UID:e.1880.4018
SEQUENCE:3
DTSTAMP:20260422T152638Z
URL:https://business.chinovalley.org/events/details/chino-valley-quilters-meeting-12-08-2026-4018
END:VEVENT

END:VCALENDAR
