BEGIN:VCALENDAR
VERSION:2.0
PRODID:-//ChamberMaster//Event Calendar 2.0//EN
METHOD:PUBLISH
X-PUBLISHED-TTL:P3D
REFRESH-INTERVAL:P3D
CALSCALE:GREGORIAN
BEGIN:VEVENT
DTSTART:20251209T163000Z
DTEND:20251209T183000Z
X-MICROSOFT-CDO-ALLDAYEVENT:FALSE
SUMMARY:Chino Valley Quilters Meeting
DESCRIPTION:Chino Valley Quilters Meeting
X-ALT-DESC;FMTTYPE=text/html:Chino Valley Quilters Meeting
LOCATION:Southern Baptist Church 1524 AZ 89 Chino Valley\, AZ 86323
UID:e.1880.4006
SEQUENCE:3
DTSTAMP:20260421T204018Z
URL:https://business.chinovalley.org/events/details/chino-valley-quilters-meeting-12-09-2025-4006
END:VEVENT

END:VCALENDAR
