BEGIN:VCALENDAR
VERSION:2.0
PRODID:-//ChamberMaster//Event Calendar 2.0//EN
METHOD:PUBLISH
X-PUBLISHED-TTL:P3D
REFRESH-INTERVAL:P3D
CALSCALE:GREGORIAN
BEGIN:VEVENT
DTSTART:20251025T160000Z
DTEND:20251025T190000Z
X-MICROSOFT-CDO-ALLDAYEVENT:FALSE
SUMMARY:Cotumes for Kids 5K & Halloween Fest
DESCRIPTION:Halloween Comes Early in Prescott with Yavapai CASA for Kids Foundation's 11th Annual Costumes for Kids 5K & Halloween Fest Grab your costumes and join us Saturday\, October 25th\, 2025\, at Courthouse Square for a festive 5K winding through beautiful\, historic downtown Prescott. Not up for the 5K? No problem! We also have a 1-mile Fun Run around Courthouse Square plus plenty of activities for all ages. Enjoy music from Fly by Night Entertainment. Play games and win prizes from our amazing vendors. Cheer on runners\, socialize\, and soak up the Halloween spirit. Snacks and drinks will be free\, and there will be prizes for: Best boy's and girl's costume Best adult male and female costume Best group costume It's the perfect family outing\, complete with game booths and seasonal fun. Costume attire isn't required but is definitely encouraged. Kids under 16 and foster/kinship families run FREE! Team registration discounts are available. This event is untimed and designed to be fun for the entire family. Bring your friends and family! You won't want to miss this ghoulishly good time!
X-ALT-DESC;FMTTYPE=text/html:Halloween Comes Early in Prescott with Yavapai CASA for Kids Foundation&rsquo\;s 11th Annual Costumes for Kids 5K &amp\; Halloween Fest Grab your costumes and join us Saturday\, October 25th\, 2025\, at Courthouse Square for a festive 5K winding through beautiful\, historic downtown Prescott. Not up for the 5K? No problem! We also have a 1-mile Fun Run around Courthouse Square plus plenty of activities for all ages. Enjoy music from Fly by Night Entertainment. Play games and win prizes from our amazing vendors. Cheer on runners\, socialize\, and soak up the Halloween spirit. Snacks and drinks will be free\, and there will be prizes for: Best boy&rsquo\;s and girl&rsquo\;s costume Best adult male and female costume Best group costume It&rsquo\;s the perfect family outing\, complete with game booths and seasonal fun. Costume attire isn&rsquo\;t required but is definitely encouraged. Kids under 16 and foster/kinship families run FREE! Team registration discounts are available. This event is untimed and designed to be fun for the entire family. Bring your friends and family! You won&rsquo\;t want to miss this ghoulishly good time!
LOCATION:Prescott Courthouse Square
UID:e.1880.6003
SEQUENCE:3
DTSTAMP:20260419T162205Z
URL:https://business.chinovalley.org/events/details/cotumes-for-kids-5k-halloween-fest-6003
END:VEVENT

END:VCALENDAR
