BEGIN:VCALENDAR
VERSION:2.0
PRODID:-//ChamberMaster//Event Calendar 2.0//EN
METHOD:PUBLISH
X-PUBLISHED-TTL:P3D
REFRESH-INTERVAL:P3D
CALSCALE:GREGORIAN
BEGIN:VEVENT
DTSTART:20251206T003000Z
DTEND:20251206T050000Z
X-MICROSOFT-CDO-ALLDAYEVENT:FALSE
SUMMARY:Country Christmas
DESCRIPTION:It's a December to Remember in Chino Valley! The Old Country Christmas event includes a light parade at dusk and free pictures with Santa after the parade. Bring your family and friends for a festive evening of lights\, fun and holiday spirit! Organized by Chino Valley Community Services.
X-ALT-DESC;FMTTYPE=text/html:It&rsquo\;s a December to Remember in Chino Valley! The Old Country Christmas event includes a light parade at dusk and free pictures with Santa after the parade. Bring your family and friends for a festive evening of lights\, fun and holiday spirit! Organized by Chino Valley Community Services.
LOCATION:Chino Valley Memory Park
UID:e.1880.6101
SEQUENCE:3
DTSTAMP:20260421T203637Z
URL:https://business.chinovalley.org/events/details/country-christmas-6101
END:VEVENT

END:VCALENDAR
