BEGIN:VCALENDAR
VERSION:2.0
PRODID:-//ChamberMaster//Event Calendar 2.0//EN
METHOD:PUBLISH
X-PUBLISHED-TTL:P3D
REFRESH-INTERVAL:P3D
CALSCALE:GREGORIAN
BEGIN:VEVENT
DTSTART:20250729T190000Z
DTEND:20250729T190000Z
X-MICROSOFT-CDO-ALLDAYEVENT:FALSE
SUMMARY:Dignity Health Lecture Series
DESCRIPTION:Dignity Health Lecture Series Featuring Dr. Kenneth Finn We are pleased to welcome Dr. Kenneth Finn to Espire Sports for this special speaker series event\, presented in partnership with Yavapai Regional Medical Group. A recognized expert in Physical Medicine and Rehabilitation (PM&R)\, Dr. Finn brings over 20 years of experience in treating complex pain conditions\, with a focus on non-surgical approaches to musculoskeletal health.
X-ALT-DESC;FMTTYPE=text/html:Dignity Health Lecture Series Featuring Dr. Kenneth Finn We are pleased to welcome Dr. Kenneth Finn to Espire Sports for this special speaker series event\, presented in partnership with Yavapai Regional Medical Group. A recognized expert in Physical Medicine and Rehabilitation (PM&amp\;R)\, Dr. Finn brings over 20 years of experience in treating complex pain conditions\, with a focus on non-surgical approaches to musculoskeletal health.
LOCATION:Espire Sports 3400 Gateway Blvd Prescott\, AZ 86303
UID:e.1880.6006
SEQUENCE:3
DTSTAMP:20260419T093129Z
URL:https://business.chinovalley.org/events/details/dignity-health-lecture-series-6006
END:VEVENT

END:VCALENDAR
