BEGIN:VCALENDAR
VERSION:2.0
PRODID:-//ChamberMaster//Event Calendar 2.0//EN
METHOD:PUBLISH
X-PUBLISHED-TTL:P3D
REFRESH-INTERVAL:P3D
CALSCALE:GREGORIAN
BEGIN:VEVENT
DTSTART:20251225T180000Z
DTEND:20251225T210000Z
X-MICROSOFT-CDO-ALLDAYEVENT:FALSE
SUMMARY:Don't Spend Christmas Alone Dinner
DESCRIPTION:Don't Spend Christmas Alone Dinner is a NO COST dinner served to those who are alone\, feel alone or have nowhere to go on Christmas day. All are Welcome! Come and enjoy fellowship and entertainment from 11:00 am to 2:00 pm. Suttle service is available to the church from Chino Valley\, Prescott and Prescott Valley.
X-ALT-DESC;FMTTYPE=text/html:Don&#39\;t Spend Christmas Alone Dinner is a NO COST dinner served to those who are alone\, feel alone or have nowhere to go on Christmas day. All are Welcome! Come and enjoy fellowship and entertainment from 11:00 am to 2:00 pm. Suttle service is available to the church from Chino Valley\, Prescott and Prescott Valley.
LOCATION:2000 Shepherds Lane\, Prescott\, AZ\, 86301 1 block North of the Prescott Airport entrance on Hwy 89
UID:e.1880.6099
SEQUENCE:3
DTSTAMP:20260421T220948Z
URL:https://business.chinovalley.org/events/details/don-t-spend-christmas-alone-dinner-6099
END:VEVENT

END:VCALENDAR
