BEGIN:VCALENDAR
VERSION:2.0
PRODID:-//ChamberMaster//Event Calendar 2.0//EN
METHOD:PUBLISH
X-PUBLISHED-TTL:P3D
REFRESH-INTERVAL:P3D
CALSCALE:GREGORIAN
BEGIN:VEVENT
DTSTART:20250717T210000Z
DTEND:20250717T230000Z
X-MICROSOFT-CDO-ALLDAYEVENT:FALSE
SUMMARY:DREAM - Networking Training
DESCRIPTION:Do you constantly go to networking events and just end up with a stack of business cards and no real leads or referrals? Then you need to attend the DREAM Mastery Training where we will teach you the new way to network that will get you quality referrals and quality results. D.R.E.A.M. Mastery Training is a training program for professionals who network. We want to modernize the way you think about networking\, and change the way you network. Maximizing your relationship development for the most powerful referral partners. D.R.E.A.M. - Developing Referrals & Elevating A-Team Mastery Presented by: Larry Larsen Thursday\, July 17th\, 2025 2:00pm-4:00pm Via Zoom Register Here: https://thedreamtraining.com/registration/ Larry Larsen Relationship Development Frontier Financial of Arizona Cell/Text: Email: info@thedreamtraining.com thedreamtraining.com
X-ALT-DESC;FMTTYPE=text/html:Do you constantly go to networking events and just end up with a stack of business cards and no real leads or referrals? Then you need to attend the DREAM Mastery Training where we will teach you the new way to network that will get you quality referrals and quality results. D.R.E.A.M. Mastery Training is a training program for professionals who network. We want to modernize the way you think about networking\, and change the way you network. Maximizing your relationship development for the most powerful referral partners. D.R.E.A.M. - Developing Referrals &amp\; Elevating A-Team Mastery Presented by: Larry Larsen Thursday\, July 17th\, 2025 2:00pm-4:00pm Via Zoom Register Here: https://thedreamtraining.com/registration/ Larry Larsen Relationship Development Frontier Financial of Arizona Cell/Text: Email: info@thedreamtraining.com thedreamtraining.com
LOCATION:Online via Zoom
UID:e.1880.5982
SEQUENCE:3
DTSTAMP:20260421T100635Z
URL:https://business.chinovalley.org/events/details/dream-networking-training-07-17-2025-5982
END:VEVENT

END:VCALENDAR
