BEGIN:VCALENDAR
VERSION:2.0
PRODID:-//ChamberMaster//Event Calendar 2.0//EN
METHOD:PUBLISH
X-PUBLISHED-TTL:P3D
REFRESH-INTERVAL:P3D
CALSCALE:GREGORIAN
BEGIN:VEVENT
DTSTART:20250927T220000Z
DTEND:20250928T020000Z
X-MICROSOFT-CDO-ALLDAYEVENT:FALSE
SUMMARY:FALL FEST!
DESCRIPTION:FALL FEST!! Free! Fun for ALL ages!! Activities include lots of carnival games\, tractor rides & mechanical bullriding! Tons of treats & prizes\, including cotton candy! Free chili dinner and live musical entertainment! Saturday\, September 27\, 3:00-7:00 PM @ American Lutheran Church\, 1085 Scott Dr. (near Prescott High School). YOU ARE INVITED!
X-ALT-DESC;FMTTYPE=text/html:FALL FEST!! Free! Fun for ALL ages!! Activities include lots of carnival games\, tractor rides &amp\; mechanical bullriding! Tons of treats &amp\; prizes\, including cotton candy! Free chili dinner and live musical entertainment! Saturday\, September 27\, 3:00-7:00 PM @ American Lutheran Church\, 1085 Scott Dr. (near Prescott High School). YOU ARE INVITED!
LOCATION:American Lutheran Church 1085 Scott Drive\, Prescott (near Prescott High School)
UID:e.1880.6068
SEQUENCE:3
DTSTAMP:20260419T143720Z
URL:https://business.chinovalley.org/events/details/fall-fest-6068
END:VEVENT

END:VCALENDAR
