BEGIN:VCALENDAR
VERSION:2.0
PRODID:-//ChamberMaster//Event Calendar 2.0//EN
METHOD:PUBLISH
X-PUBLISHED-TTL:P3D
REFRESH-INTERVAL:P3D
CALSCALE:GREGORIAN
BEGIN:VEVENT
DTSTART:20250611T230000Z
DTEND:20250612T010000Z
X-MICROSOFT-CDO-ALLDAYEVENT:FALSE
SUMMARY:Grand Opening of Serene Yoga and Fitness
DESCRIPTION:Please join Serene Yoga and Fitness at their Grand Opening and Ribbon Cutting at the new and permanent location on June 11 at 4:00 p.m!\n\n\n\n1596 Susan A Williams Way\n\nChino Valley\, AZ 86323
X-ALT-DESC;FMTTYPE=text/html:<br />\nPlease join Serene Yoga and Fitness at their Grand Opening and Ribbon Cutting at the new and permanent location on June 11 at 4:00 p.m!<br />\n<br />\n1596 Susan A Williams Way<br />\nChino Valley\, AZ 86323
LOCATION:
UID:e.1880.5966
SEQUENCE:3
DTSTAMP:20260421T085125Z
URL:https://business.chinovalley.org/events/details/grand-opening-of-serene-yoga-and-fitness-5966
END:VEVENT

END:VCALENDAR
