BEGIN:VCALENDAR
VERSION:2.0
PRODID:-//ChamberMaster//Event Calendar 2.0//EN
METHOD:PUBLISH
X-PUBLISHED-TTL:P3D
REFRESH-INTERVAL:P3D
CALSCALE:GREGORIAN
BEGIN:VEVENT
DTSTART:20260211T220000Z
DTEND:20260212T010000Z
X-MICROSOFT-CDO-ALLDAYEVENT:FALSE
SUMMARY:Health Sciences Career Expo
DESCRIPTION:Yavapai College Health Sciences Career Expo Wednesday\, February 11\, 2026 3:00pm to 6pm Katherine Anderson\, katherine.anderson@yc.edu\, 928-776-2008 Yavapai College\, 3800 N. Glassford Hill Rd\, 1st Floor\, Prescott Valley\, AZ 83614 Website: www.yc.edu/amjc Prepare for your future! Connect with industry experts within the community\, get answers to your questions\, open doors to potential job prospects\, and explore potential job leads. Whether you're a student\, a recent graduate\, or contemplating a career change\, this event is for you. Don't miss out on this fantastic opportunity!
X-ALT-DESC;FMTTYPE=text/html:Yavapai College Health Sciences Career Expo Wednesday\, February 11\, 2026 3:00pm to 6pm Katherine Anderson\, katherine.anderson@yc.edu\, 928-776-2008 Yavapai College\, 3800 N. Glassford Hill Rd\, 1st Floor\, Prescott Valley\, AZ 83614 Website: www.yc.edu/amjc Prepare for your future! Connect with industry experts within the community\, get answers to your questions\, open doors to potential job prospects\, and explore potential job leads. Whether you&#39\;re a student\, a recent graduate\, or contemplating a career change\, this event is for you. Don&#39\;t miss out on this fantastic opportunity!
LOCATION:Yavapai College Prescott Valley Center. 3800 N Glassford Hill Rd.\, Prescott Valley\, AZ 86314
UID:e.1880.6134
SEQUENCE:3
DTSTAMP:20260422T011314Z
URL:https://business.chinovalley.org/events/details/health-sciences-career-expo-6134
END:VEVENT

END:VCALENDAR
