BEGIN:VCALENDAR
VERSION:2.0
PRODID:-//ChamberMaster//Event Calendar 2.0//EN
METHOD:PUBLISH
X-PUBLISHED-TTL:P3D
REFRESH-INTERVAL:P3D
CALSCALE:GREGORIAN
BEGIN:VEVENT
DTSTART:20250922T190000Z
DTEND:20250922T200000Z
X-MICROSOFT-CDO-ALLDAYEVENT:FALSE
SUMMARY:Heart Health Talk
DESCRIPTION:Heart Health Talk Featuring Dr. Olufunso Odunukan We are pleased to welcome Dr. Olufunso Odunukan to Espire Sports for this special Heart Health talk\, presented in partnership with Yavapai Regional Medical Group. Dr. Odunukan is an Interventional Cardiologist specializing in interventional cardiology\, structural heart disease\, and peripheral arterial disease. He performs some of the latest\, most innovative treatments for heart and vascular health. Join us for a great Heart Health Lecture + Lunch! Where: Espire Sports 3400 Gateway Blvd Prescott\, AZ 86303 When: September 22\, 2025\, 12-1 p.m. Lunch will be provided Don't miss this great opportunity to learn from Dr. Odunukan's expertise in Heart and Vascular Heart! Please RSVP to Angela Dodson angela.dodson900@commonspirit.org or to admin@espiresports.com at Espire Sports
X-ALT-DESC;FMTTYPE=text/html:Heart Health Talk Featuring Dr. Olufunso Odunukan We are pleased to welcome Dr. Olufunso Odunukan to Espire Sports for this special Heart Health talk\, presented in partnership with Yavapai Regional Medical Group. Dr. Odunukan is an Interventional Cardiologist specializing in interventional cardiology\, structural heart disease\, and peripheral arterial disease. He performs some of the latest\, most innovative treatments for heart and vascular health. Join us for a great Heart Health Lecture + Lunch! Where: Espire Sports 3400 Gateway Blvd Prescott\, AZ 86303 When: September 22\, 2025\, 12-1 p.m. Lunch will be provided Don&rsquo\;t miss this great opportunity to learn from Dr. Odunukan&rsquo\;s expertise in Heart and Vascular Heart! Please RSVP to Angela Dodson angela.dodson900@commonspirit.org or to admin@espiresports.com at Espire Sports
LOCATION:Espire Sports 3400 Gateway Blvd Prescott\, AZ 86303
UID:e.1880.6043
SEQUENCE:3
DTSTAMP:20260419T144121Z
URL:https://business.chinovalley.org/events/details/heart-health-talk-6043
END:VEVENT

END:VCALENDAR
