BEGIN:VCALENDAR
VERSION:2.0
PRODID:-//ChamberMaster//Event Calendar 2.0//EN
METHOD:PUBLISH
X-PUBLISHED-TTL:P3D
REFRESH-INTERVAL:P3D
CALSCALE:GREGORIAN
BEGIN:VEVENT
DTSTART:20251114T000000Z
DTEND:20251114T040000Z
X-MICROSOFT-CDO-ALLDAYEVENT:FALSE
SUMMARY:Heroes Among Us Awards
DESCRIPTION:The Heroes Among Us Awards honor military (active & veteran) and first responders who are making a difference outside of uniform in the Quad Cities area through volunteering. There are also awards for military spouse\, first responder spouse and organization. Recipients are nominated by community members and chosen by a committee of peers. Nominations are accepted through Wednesday\, October 15. The awards ceremony will be emceed by Prescott Police Chief Amy Bonney and Prescott Fire Chief Holger Durre. The event will include a delicious Italian dinner\, keynote speech by a local hero (TBA)\, and silent & live auction. Cocktail attire is requested. All proceeds benefit the heroes and horses of Bethany's Gait Ranch\, a 501(c)3 ministry in Chino Valley\, AZ.
X-ALT-DESC;FMTTYPE=text/html:The Heroes Among Us Awards honor military (active &amp\; veteran) and first responders who are making a difference outside of uniform in the Quad Cities area through volunteering. There are also awards for military spouse\, first responder spouse and organization. Recipients are nominated by community members and chosen by a committee of peers. Nominations are accepted through Wednesday\, October 15. The awards ceremony will be emceed by Prescott Police Chief Amy Bonney and Prescott Fire Chief Holger Durre. The event will include a delicious Italian dinner\, keynote speech by a local hero (TBA)\, and silent &amp\; live auction. Cocktail attire is requested. All proceeds benefit the heroes and horses of Bethany&#39\;s Gait Ranch\, a 501(c)3 ministry in Chino Valley\, AZ.
LOCATION:Windmill House\, 1460 W. Road 4 N.\, Chino Valley\, AZ
UID:e.1880.6078
SEQUENCE:3
DTSTAMP:20260419T180802Z
URL:https://business.chinovalley.org/events/details/heroes-among-us-awards-11-13-2025-6078
END:VEVENT

END:VCALENDAR
