BEGIN:VCALENDAR
VERSION:2.0
PRODID:-//ChamberMaster//Event Calendar 2.0//EN
METHOD:PUBLISH
X-PUBLISHED-TTL:P3D
REFRESH-INTERVAL:P3D
CALSCALE:GREGORIAN
BEGIN:VEVENT
DTSTART:20250815T173000Z
DTEND:20250815T181500Z
X-MICROSOFT-CDO-ALLDAYEVENT:FALSE
SUMMARY:Highlands Nature Center Storytime
DESCRIPTION:Highlands Nature Center of Prescott will be visiting the Chino Valley Public Library to host an outdoor storytime\, perfect for Preschool and Elementary ages! Story\, puppets\, snack and craft.
X-ALT-DESC;FMTTYPE=text/html:Highlands Nature Center of Prescott will be visiting the Chino Valley Public Library to host an outdoor storytime\, perfect for Preschool and Elementary ages! Story\, puppets\, snack and craft.
LOCATION:Memory Park by gazebo
UID:e.1880.6028
SEQUENCE:3
DTSTAMP:20260419T133341Z
URL:https://business.chinovalley.org/events/details/highlands-nature-center-storytime-6028
END:VEVENT

END:VCALENDAR
