BEGIN:VCALENDAR
VERSION:2.0
PRODID:-//ChamberMaster//Event Calendar 2.0//EN
METHOD:PUBLISH
X-PUBLISHED-TTL:P3D
REFRESH-INTERVAL:P3D
CALSCALE:GREGORIAN
BEGIN:VEVENT
DTSTART:20250829T210000Z
DTEND:20250829T220000Z
X-MICROSOFT-CDO-ALLDAYEVENT:FALSE
SUMMARY:Historical Presentation
DESCRIPTION:Join AZ historian Jarrod Riddle of Spirit of the West tours to explore the Legends of the Old West! Ideal for adults and teens.
X-ALT-DESC;FMTTYPE=text/html:Join AZ historian Jarrod Riddle of Spirit of the West tours to explore the Legends of the Old West! Ideal for adults and teens.
LOCATION:Chino Valley Public Library
UID:e.1880.6030
SEQUENCE:3
DTSTAMP:20260419T130551Z
URL:https://business.chinovalley.org/events/details/historical-presentation-6030
END:VEVENT

END:VCALENDAR
