BEGIN:VCALENDAR
VERSION:2.0
PRODID:-//ChamberMaster//Event Calendar 2.0//EN
METHOD:PUBLISH
X-PUBLISHED-TTL:P3D
REFRESH-INTERVAL:P3D
CALSCALE:GREGORIAN
BEGIN:VEVENT
DTSTART;VALUE=DATE:20250726
DTEND;VALUE=DATE:20250727
TRANSP:TRANSPARENT
X-MICROSOFT-CDO-ALLDAYEVENT:TRUE
SUMMARY:Honor on the Mats: Chino Valley
DESCRIPTION:Rolling for a Cause Help Veterans Train Through Our BJJ Marathon! Every takedown\, every sweep\, every hard-earned submission it's all because of YOU! Your support for our BJJ Marathon isn't just giving veterans a place to train\; it's helping them build confidence\, resilience\, and a brotherhood that's got their back. Every Dollar Fuels the Fight! Your generosity directly funds veterans' training\, giving them the opportunity to learn\, grow\, and challenge themselves in Brazilian Jiu-Jitsu. Whether it's covering gym fees\, gear\, or coaching\, your donation makes a real impact. Why did the BJJ fighter bring a ladder to practice? Because they heard it was all about climbing the ranks but thanks to you\, our veterans don't need shortcuts. They're grinding their way to success\, one roll at a time! If you've already donated\, we salute you and if you haven't yet\, there's still time to help! Every contribution brings more veterans to the mats and strengthens this life-changing community. Donate today and be part of something bigger than the sport it's a movement! Thank you for fighting for those who fought for us!
X-ALT-DESC;FMTTYPE=text/html:Rolling for a Cause&mdash\;Help Veterans Train Through Our BJJ Marathon! Every takedown\, every sweep\, every hard-earned submission&mdash\;it&rsquo\;s all because of YOU! Your support for our BJJ Marathon isn&rsquo\;t just giving veterans a place to train\; it&rsquo\;s helping them build confidence\, resilience\, and a brotherhood that&rsquo\;s got their back. Every Dollar Fuels the Fight! Your generosity directly funds veterans&#39\; training\, giving them the opportunity to learn\, grow\, and challenge themselves in Brazilian Jiu-Jitsu. Whether it&rsquo\;s covering gym fees\, gear\, or coaching\, your donation makes a real impact. Why did the BJJ fighter bring a ladder to practice? Because they heard it was all about climbing the ranks&mdash\;but thanks to you\, our veterans don&rsquo\;t need shortcuts. They&rsquo\;re grinding their way to success\, one roll at a time! If you&rsquo\;ve already donated\, we salute you&mdash\;and if you haven&rsquo\;t yet\, there&rsquo\;s still time to help! Every contribution brings more veterans to the mats and strengthens this life-changing community. Donate today and be part of something bigger than the sport&mdash\;it&rsquo\;s a movement! Thank you for fighting for those who fought for us!
LOCATION:Tri-City Martial Arts 2947 AZ-89 Suite B\, Chino Valley\, AZ 86323
UID:e.1880.5965
SEQUENCE:3
DTSTAMP:20260421T101125Z
URL:https://business.chinovalley.org/events/details/honor-on-the-mats-chino-valley-5965
END:VEVENT

END:VCALENDAR
