BEGIN:VCALENDAR
VERSION:2.0
PRODID:-//ChamberMaster//Event Calendar 2.0//EN
METHOD:PUBLISH
X-PUBLISHED-TTL:P3D
REFRESH-INTERVAL:P3D
CALSCALE:GREGORIAN
BEGIN:VEVENT
DTSTART:20251216T220000Z
DTEND:20251217T030000Z
X-MICROSOFT-CDO-ALLDAYEVENT:FALSE
SUMMARY:HOTSHOTS & HOLIDAYS ~ A Dine-to-Donate + Parking Lot Party EVENT
DESCRIPTION:?????? THIS IS THE HOTSHOTS & HOLIDAYS ~ A Dine-to-Donate + Parking Lot Party EVENT YOU DO NOT WANT TO MISS! ?????? Tuesday\, December 16th the Texas Roadhouse parking lot is turning into a full-blown Christmas Parking Lot Party and we're going BIG for our "Dine to Donate" benefitting the GMIHC Learning & Tribute Center ! 3:00-8:00 PM   Come hungry\, stay for the fun! ? Texas Roadhouse is donating 10% of ALL food sales to the GMIHC Learning & Tribute Center ? Santa Claus in the house 4:30-7:30 (bring your cameras!) ? Prescott Fire Truck + the legendary Supt' Truck on display ? Smokey Bear ? Andy Armadillo ? Hot coffee truck to keep the holiday vibes warm ? GMIHC booth loaded with last-minute Christmas gifts that give back ? Surprise cookie treats + roaming Christmas carolers! Bring the kids\, co-workers or crew\, bring your appetite   roll through anytime between 3-8\, grab dinner - even "to go" (or just apps & legendary rolls)\, and know every dollar spent helps! This is community love at its finest. Grab your ugly sweater if ya want and we'll see you in the parking lot! ?????? Questions? Pilar.Hemry@gmihc19.org
X-ALT-DESC;FMTTYPE=text/html:?????? THIS IS THE HOTSHOTS &amp\; HOLIDAYS ~ A Dine-to-Donate + Parking Lot Party EVENT YOU DO NOT WANT TO MISS! ?????? Tuesday\, December 16th the Texas Roadhouse parking lot is turning into a full-blown Christmas Parking Lot Party and we&rsquo\;re going BIG for our &quot\;Dine to Donate&quot\; benefitting the GMIHC Learning &amp\; Tribute Center ! 3:00-8:00 PM &ndash\; Come hungry\, stay for the fun! ? Texas Roadhouse is donating 10% of ALL food sales to the GMIHC Learning &amp\; Tribute Center ? Santa Claus in the house 4:30-7:30 (bring your cameras!) ? Prescott Fire Truck + the legendary Supt&rsquo\; Truck on display ? Smokey Bear ? Andy Armadillo ? Hot coffee truck to keep the holiday vibes warm ? GMIHC booth loaded with last-minute Christmas gifts that give back ? Surprise cookie treats + roaming Christmas carolers! Bring the kids\, co-workers or crew\, bring your appetite &ndash\; roll through anytime between 3-8\, grab dinner - even &quot\;to go&quot\; (or just apps &amp\; legendary rolls)\, and know every dollar spent helps! This is community love at its finest. Grab your ugly sweater if ya want and we&rsquo\;ll see you in the parking lot! ?????? Questions? Pilar.Hemry@gmihc19.org
LOCATION:Texas Roadhouse\, 3310 Gateway Blvd\, Prescott AZ 86303
UID:e.1880.6118
SEQUENCE:3
DTSTAMP:20260421T220248Z
URL:https://business.chinovalley.org/events/details/hotshots-holidays-a-dine-to-donate-parking-lot-party-event-6118
END:VEVENT

END:VCALENDAR
