BEGIN:VCALENDAR
VERSION:2.0
PRODID:-//ChamberMaster//Event Calendar 2.0//EN
METHOD:PUBLISH
X-PUBLISHED-TTL:P3D
REFRESH-INTERVAL:P3D
CALSCALE:GREGORIAN
BEGIN:VEVENT
DTSTART:20250812T220000Z
DTEND:20250813T000000Z
X-MICROSOFT-CDO-ALLDAYEVENT:FALSE
SUMMARY:Lego Club
DESCRIPTION:Join other kids afterschool to build something fun with Legos! Free\, Legos provided (please leave your own Legos at home) follow a design idea or create your own. Held year round during school year. If child is under 5yrs please supervise.
X-ALT-DESC;FMTTYPE=text/html:Join other kids afterschool to build something fun with Legos! Free\, Legos provided (please leave your own Legos at home) follow a design idea or create your own. Held year round during school year. If child is under 5yrs please supervise.
LOCATION:Chino Valley Public Library
UID:e.1880.6025
SEQUENCE:3
DTSTAMP:20260419T130807Z
URL:https://business.chinovalley.org/events/details/lego-club-6025
END:VEVENT

END:VCALENDAR
