BEGIN:VCALENDAR
VERSION:2.0
PRODID:-//ChamberMaster//Event Calendar 2.0//EN
METHOD:PUBLISH
X-PUBLISHED-TTL:P3D
REFRESH-INTERVAL:P3D
CALSCALE:GREGORIAN
BEGIN:VEVENT
DTSTART:20250822T170000Z
DTEND:20250822T181500Z
X-MICROSOFT-CDO-ALLDAYEVENT:FALSE
SUMMARY:Local Author Storytime
DESCRIPTION:Join local children's author Deborah Malone for her story "Doing What I Otter" about a sea otter who learns that family and friends are more important than stuff. Craft and snack afterwards. Hosted by Chino Valley Public Library\, 10am is for littles\, 10:30am for bigger kids.
X-ALT-DESC;FMTTYPE=text/html:Join local children&#39\;s author Deborah Malone for her story &quot\;Doing What I Otter&quot\; about a sea otter who learns that family and friends are more important than stuff. Craft and snack afterwards. Hosted by Chino Valley Public Library\, 10am is for littles\, 10:30am for bigger kids.
LOCATION:Memory Park by gazebo
UID:e.1880.6029
SEQUENCE:3
DTSTAMP:20260419T130753Z
URL:https://business.chinovalley.org/events/details/local-author-storytime-6029
END:VEVENT

END:VCALENDAR
