BEGIN:VCALENDAR
VERSION:2.0
PRODID:-//ChamberMaster//Event Calendar 2.0//EN
METHOD:PUBLISH
X-PUBLISHED-TTL:P3D
REFRESH-INTERVAL:P3D
CALSCALE:GREGORIAN
BEGIN:VEVENT
DTSTART:20251104T183000Z
DTEND:20251104T200000Z
X-MICROSOFT-CDO-ALLDAYEVENT:FALSE
SUMMARY:Lunch & Learn AI Training presented by SBDC
DESCRIPTION:Join us for an engaging Lunch & Learn focused on Artificial Intelligence (AI) and how it can transform the way you do business! This informative session\, presented by the Yavapai College Small Business Development Center (SBDC)\, will feature expert John Manning\, who will share practical ways small businesses can leverage AI tools to improve productivity\, streamline operations\, and enhance marketing strategies.\n\nYou'll gain valuable insights on:\n\n\n	\n	Understanding what AI is (and what it isn't)\n	\n	\n	How small businesses can benefit from AI\n	\n	\n	Practical examples of AI tools you can start using today\n	\n	\n	Best practices for integrating AI into your daily operations\n	\n\n\n \n\nThis session also provides an excellent opportunity to network with fellow business professionals\, exchange ideas\, and enjoy lunch while learning strategies to keep your business ahead of the curve.
X-ALT-DESC;FMTTYPE=text/html:<p data-end="729" data-start="300">Join us for an engaging <strong data-end="341" data-start="324">Lunch &amp\; Learn</strong> focused on <em data-end="383" data-start="353">Artificial Intelligence (AI)</em> and how it can transform the way you do business! This informative session\, presented by the <strong data-end="537" data-start="477">Yavapai College Small Business Development Center (SBDC)</strong>\, will feature expert <strong data-end="575" data-start="559">John Manning</strong>\, who will share practical ways small businesses can leverage AI tools to improve productivity\, streamline operations\, and enhance marketing strategies.</p>\n\n<p data-end="766" data-start="731">You&rsquo\;ll gain valuable insights on:</p>\n\n<ul data-end="986" data-start="767">\n	<li data-end="815" data-start="767">\n	<p data-end="815" data-start="769">Understanding what AI is (and what it isn&rsquo\;t)</p>\n	</li>\n	<li data-end="860" data-start="816">\n	<p data-end="860" data-start="818">How small businesses can benefit from AI</p>\n	</li>\n	<li data-end="921" data-start="861">\n	<p data-end="921" data-start="863">Practical examples of AI tools you can start using today</p>\n	</li>\n	<li data-end="986" data-start="922">\n	<p data-end="986" data-start="924">Best practices for integrating AI into your daily operations</p>\n	</li>\n</ul>\n\n<p data-end="719" data-start="345">&nbsp\;</p>\n\n<p data-end="1192" data-start="988">This session also provides an excellent opportunity to <strong data-end="1089" data-start="1043">network with fellow business professionals</strong>\, exchange ideas\, and enjoy lunch while learning strategies to keep your business ahead of the curve.</p>\n
LOCATION:Chino Valley Police Department Training Room 220 N State Route 89\, Chino Valley\, AZ 86323-5981
UID:e.1880.6089
SEQUENCE:3
DTSTAMP:20260419T180205Z
URL:https://business.chinovalley.org/events/details/lunch-learn-ai-training-presented-by-sbdc-6089
END:VEVENT

END:VCALENDAR
