BEGIN:VCALENDAR
VERSION:2.0
PRODID:-//ChamberMaster//Event Calendar 2.0//EN
METHOD:PUBLISH
X-PUBLISHED-TTL:P3D
REFRESH-INTERVAL:P3D
CALSCALE:GREGORIAN
BEGIN:VEVENT
DTSTART:20251118T200000Z
DTEND:20251118T210000Z
X-MICROSOFT-CDO-ALLDAYEVENT:FALSE
SUMMARY:Master Gardener
DESCRIPTION:University of Arizona Cooperative Extension presents free Master Gardener talks every month on the third Tuesday at 1 p.m.\, except December. Each month has a new topic or theme and is open to all. Come join us and learn more about gardening\, yard care\, nature\, yard wildlife\, plants\, growing and more! The library is at 1020 Palomino Rd.\, Chino Valley.
X-ALT-DESC;FMTTYPE=text/html:University of Arizona Cooperative Extension presents free Master Gardener talks every month on the third Tuesday at 1 p.m.\, except December. Each month has a new topic or theme and is open to all. Come join us and learn more about gardening\, yard care\, nature\, yard wildlife\, plants\, growing and more! The library is at 1020 Palomino Rd.\, Chino Valley.
LOCATION:Chino Valley Public Library 1020 Palomino Rd. Chino Valley\, Arizona 86232
UID:e.1880.6102
SEQUENCE:3
DTSTAMP:20260419T175858Z
URL:https://business.chinovalley.org/events/details/master-gardener-6102
END:VEVENT

END:VCALENDAR
