BEGIN:VCALENDAR
VERSION:2.0
PRODID:-//ChamberMaster//Event Calendar 2.0//EN
METHOD:PUBLISH
X-PUBLISHED-TTL:P3D
REFRESH-INTERVAL:P3D
CALSCALE:GREGORIAN
BEGIN:VEVENT
DTSTART:20260531T220000Z
DTEND:20260601T000000Z
X-MICROSOFT-CDO-ALLDAYEVENT:FALSE
SUMMARY:Meet the Prescott Symphony Orchestra
DESCRIPTION:Last performance of the Prescott POPS Symphony's 2025-26 season. Go to PrescottPOPS.com.
X-ALT-DESC;FMTTYPE=text/html:Last performance of the Prescott POPS Symphony&#39\;s 2025-26 season. Go to PrescottPOPS.com.
LOCATION:Yavapai College Performing Arts Center 1100 E. Sheldon\, Prescott
UID:e.1880.6362
SEQUENCE:3
DTSTAMP:20260422T041855Z
URL:https://business.chinovalley.org/events/details/meet-the-prescott-symphony-orchestra-6362
END:VEVENT

END:VCALENDAR
