BEGIN:VCALENDAR
VERSION:2.0
PRODID:-//ChamberMaster//Event Calendar 2.0//EN
METHOD:PUBLISH
X-PUBLISHED-TTL:P3D
REFRESH-INTERVAL:P3D
CALSCALE:GREGORIAN
BEGIN:VEVENT
DTSTART:20250821T150000Z
DTEND:20250822T000000Z
X-MICROSOFT-CDO-ALLDAYEVENT:FALSE
SUMMARY:MENTAL HEALTH FIRST AID
DESCRIPTION:Registration ends 8/11/2025 WHY MENTAL HEALTH FIRST AID? Mental Health First Aid (MHFA) teaches you how to identify\, understand\, and respond to signs of mental health and substance use challenges among adults. WHO NEEDS TO KNOW MENTAL HEALTH FIRST AID   Employers.   Police officers.   Hospital staff.   First responders.   Caring individuals. The course will teach you how to apply the MHFA Action Plan (ALGEE):   Assess for risk of suicide or harm.   Listen nonjudgmentally.   Give reassurance and information.   Encourage appropriate professional help.   Encourage self-help and other support strategies.
X-ALT-DESC;FMTTYPE=text/html:Registration ends 8/11/2025 WHY MENTAL HEALTH FIRST AID? Mental Health First Aid (MHFA) teaches you how to identify\, understand\, and respond to signs of mental health and substance use challenges among adults. WHO NEEDS TO KNOW MENTAL HEALTH FIRST AID &bull\; Employers. &bull\; Police officers. &bull\; Hospital staff. &bull\; First responders. &bull\; Caring individuals. The course will teach you how to apply the MHFA Action Plan (ALGEE): &bull\; Assess for risk of suicide or harm. &bull\; Listen nonjudgmentally. &bull\; Give reassurance and information. &bull\; Encourage appropriate professional help. &bull\; Encourage self-help and other support strategies.
LOCATION:Chino Valley Police Dept. Training Room | 220 North State Route 89 Chino Valley\, AZ
UID:e.1880.6010
SEQUENCE:3
DTSTAMP:20260419T132201Z
URL:https://business.chinovalley.org/events/details/mental-health-first-aid-08-21-2025-6010
END:VEVENT

END:VCALENDAR
