BEGIN:VCALENDAR
VERSION:2.0
PRODID:-//ChamberMaster//Event Calendar 2.0//EN
METHOD:PUBLISH
X-PUBLISHED-TTL:P3D
REFRESH-INTERVAL:P3D
CALSCALE:GREGORIAN
BEGIN:VEVENT
DTSTART:20250903T162500Z
DTEND:20250903T184500Z
X-MICROSOFT-CDO-ALLDAYEVENT:FALSE
SUMMARY:Movie: The Forge
DESCRIPTION:Men's and Women's Combined Bible Study will watch this powerful Kendrick Brothers movie. It is about discipleship in everyday life. The small group study regarding topics in the film will commence during the following five weeks.
X-ALT-DESC;FMTTYPE=text/html:Men&#39\;s and Women&#39\;s Combined Bible Study will watch this powerful Kendrick Brothers movie. It is about discipleship in everyday life. The small group study regarding topics in the film will commence during the following five weeks.
LOCATION:Saving Grace Lutheran Church 440 W Palomino Road PO Box 721 Chino Valley\, AZ 86323
UID:e.1880.6062
SEQUENCE:3
DTSTAMP:20260419T143939Z
URL:https://business.chinovalley.org/events/details/movie-the-forge-6062
END:VEVENT

END:VCALENDAR
