BEGIN:VCALENDAR
VERSION:2.0
PRODID:-//ChamberMaster//Event Calendar 2.0//EN
METHOD:PUBLISH
X-PUBLISHED-TTL:P3D
REFRESH-INTERVAL:P3D
CALSCALE:GREGORIAN
BEGIN:VEVENT
DTSTART:20251026T220000Z
DTEND:20251027T000000Z
X-MICROSOFT-CDO-ALLDAYEVENT:FALSE
SUMMARY:Musica Eclectica: A Musical Mosaic with the YC Choral Union
DESCRIPTION:Help us welcome new Director of Choirs Dr. Michael Carter with an eclectic mix of vocal music from across centuries and styles. Featuring the Yavapai College Choral Union\, this concert offers a vibrant sampler of choral artistry   from Renaissance polyphony to contemporary gems. A perfect musical appetizer for the year ahead.
X-ALT-DESC;FMTTYPE=text/html:Help us welcome new Director of Choirs Dr. Michael Carter with an eclectic mix of vocal music from across centuries and styles. Featuring the Yavapai College Choral Union\, this concert offers a vibrant sampler of choral artistry &mdash\; from Renaissance polyphony to contemporary gems. A perfect musical appetizer for the year ahead.
LOCATION:Jim and Linda Lee Performing Arts Center Yavapai College Prescott Campus 1100 E Sheldon St\, Prescott\, AZ 86301
UID:e.1880.6076
SEQUENCE:3
DTSTAMP:20260419T162638Z
URL:https://business.chinovalley.org/events/details/musica-eclectica-a-musical-mosaic-with-the-yc-choral-union-6076
END:VEVENT

END:VCALENDAR
