BEGIN:VCALENDAR
VERSION:2.0
PRODID:-//ChamberMaster//Event Calendar 2.0//EN
METHOD:PUBLISH
X-PUBLISHED-TTL:P3D
REFRESH-INTERVAL:P3D
CALSCALE:GREGORIAN
BEGIN:VEVENT
DTSTART:20251008T000000Z
DTEND:20251008T030000Z
X-MICROSOFT-CDO-ALLDAYEVENT:FALSE
SUMMARY:National Night Out -Chino Valley Police Department
DESCRIPTION:National Night Out is an annual community-building campaign that promotes police-community partnerships and neighborhood camaraderie to make our neighborhoods safer\, more caring places to live.
X-ALT-DESC;FMTTYPE=text/html:National Night Out is an annual community-building campaign that promotes police-community partnerships and neighborhood camaraderie to make our neighborhoods safer\, more caring places to live.
LOCATION:Memory Park Palomino Rd. & N. Rd. 1 West (near the library)
UID:e.1880.6069
SEQUENCE:3
DTSTAMP:20260419T162656Z
URL:https://business.chinovalley.org/events/details/national-night-out-chino-valley-police-department-6069
END:VEVENT

END:VCALENDAR
