BEGIN:VCALENDAR
VERSION:2.0
PRODID:-//ChamberMaster//Event Calendar 2.0//EN
METHOD:PUBLISH
X-PUBLISHED-TTL:P3D
REFRESH-INTERVAL:P3D
CALSCALE:GREGORIAN
BEGIN:VEVENT
DTSTART:20250929T170000Z
DTEND:20250929T190000Z
X-MICROSOFT-CDO-ALLDAYEVENT:FALSE
SUMMARY:Nurturing the Human-Animal Bond: Support\, Rituals\, and Healing
DESCRIPTION:In this course\, you'll explore how to connect with and support your animal companions on a deeper emotional and spiritual level. Together\, we'll learn to hold compassionate space through the challenges of animal loss\, create rituals for life transitions\, and design personalized blessings during times of illness or change. We'll also focus on self-care for caregivers\, practice healing energy techniques\, and explore honoring the bond with animals after loss. Through hands-on activities and group discussions\, you'll discover heartfelt ways to nurture the human-animal connection throughout every phase of life.
X-ALT-DESC;FMTTYPE=text/html:In this course\, you&rsquo\;ll explore how to connect with and support your animal companions on a deeper emotional and spiritual level. Together\, we&rsquo\;ll learn to hold compassionate space through the challenges of animal loss\, create rituals for life transitions\, and design personalized blessings during times of illness or change. We&rsquo\;ll also focus on self-care for caregivers\, practice healing energy techniques\, and explore honoring the bond with animals after loss. Through hands-on activities and group discussions\, you&rsquo\;ll discover heartfelt ways to nurture the human-animal connection throughout every phase of life.
LOCATION:Yavapai College Prescott Campus 1100 E. Sheldon Street Prescott\, AZ 86301
UID:e.1880.6047
SEQUENCE:3
DTSTAMP:20260419T144412Z
URL:https://business.chinovalley.org/events/details/nurturing-the-human-animal-bond-support-rituals-and-healing-6047
END:VEVENT

END:VCALENDAR
