BEGIN:VCALENDAR
VERSION:2.0
PRODID:-//ChamberMaster//Event Calendar 2.0//EN
METHOD:PUBLISH
X-PUBLISHED-TTL:P3D
REFRESH-INTERVAL:P3D
CALSCALE:GREGORIAN
BEGIN:VEVENT
DTSTART;VALUE=DATE:20250922
DTEND;VALUE=DATE:20250927
TRANSP:TRANSPARENT
X-MICROSOFT-CDO-ALLDAYEVENT:TRUE
SUMMARY:Peoplel Who Care Business of the WEek
DESCRIPTION:People Who Care non-profit organization that serves the Quad Cities with volunteer-based services - including Chino Valley homebound residents - will be featured as "Business of the Week" at National Bank of Arizona in Chino Valley. We invite you to stop by to learn more about People Who Care and consider volunteering with us. Your Neighbors need YOU! "Do what you can\, when you can!"
X-ALT-DESC;FMTTYPE=text/html:People Who Care non-profit organization that serves the Quad Cities with volunteer-based services - including Chino Valley homebound residents - will be featured as &quot\;Business of the Week&quot\; at National Bank of Arizona in Chino Valley. We invite you to stop by to learn more about People Who Care and consider volunteering with us. Your Neighbors need YOU! &quot\;Do what you can\, when you can!&quot\;
LOCATION:National Bank of Arizona\, Chino Valley 481 AZ-89\, Chino Valley
UID:e.1880.6052
SEQUENCE:3
DTSTAMP:20260419T145634Z
URL:https://business.chinovalley.org/events/details/peoplel-who-care-business-of-the-week-6052
END:VEVENT

END:VCALENDAR
