BEGIN:VCALENDAR
VERSION:2.0
PRODID:-//ChamberMaster//Event Calendar 2.0//EN
METHOD:PUBLISH
X-PUBLISHED-TTL:P3D
REFRESH-INTERVAL:P3D
CALSCALE:GREGORIAN
BEGIN:VEVENT
DTSTART:20251230T173000Z
DTEND:20251231T063000Z
X-MICROSOFT-CDO-ALLDAYEVENT:FALSE
SUMMARY:Pop Up Book PJ Party
DESCRIPTION:Wear your favorite PJs\, bring a grownup and join us this Winter Break for a fun time sharing Mrs. Rebecca's large collection of special Pop-Up books (all topics!) while snacking on some Pop-Corn! Free\, perfect for families of Elementary ages & Preschoolers. Also held on Friday 01/02/2026 same time and place.
X-ALT-DESC;FMTTYPE=text/html:Wear your favorite PJs\, bring a grownup and join us this Winter Break for a fun time sharing Mrs. Rebecca&rsquo\;s large collection of special Pop-Up books (all topics!) while snacking on some Pop-Corn! Free\, perfect for families of Elementary ages &amp\; Preschoolers. Also held on Friday 01/02/2026 same time and place.
LOCATION:Chino Valley Public Library
UID:e.1880.6120
SEQUENCE:3
DTSTAMP:20260421T203908Z
URL:https://business.chinovalley.org/events/details/pop-up-book-pj-party-6120
END:VEVENT

END:VCALENDAR
