BEGIN:VCALENDAR
VERSION:2.0
PRODID:-//ChamberMaster//Event Calendar 2.0//EN
METHOD:PUBLISH
X-PUBLISHED-TTL:P3D
REFRESH-INTERVAL:P3D
CALSCALE:GREGORIAN
BEGIN:VEVENT
DTSTART:20251010T190000Z
DTEND:20251011T220000Z
X-MICROSOFT-CDO-ALLDAYEVENT:FALSE
SUMMARY:Prescott Antique Show & Vintage Market
DESCRIPTION:The Prescott Antique Show & Vintage Market is in its 20th year with the next event scheduled for October 10 and 11\, 2025. At home once again at the Prescott Frontier Days Rodeo Grounds\, the event will host vendors from all around Arizona and surrounding states. The 2-day event opens on Friday from 12-2 (Early Bird - $15) and 2-5 (General Admission - $10)\, and again on Saturday from 8-3 (General Admission- $10). Antiques and collectibles\, vintage clothing\, furniture\, home decor - 3 buildings and outside area stuffed to the brim with made in the USA goods! Visit us at https://www.prescottantiqueshow.com/ and follow us on Facebook and Instagram. Or contact Kathryn 818-679-0723 for general show and vendor information.
X-ALT-DESC;FMTTYPE=text/html:The Prescott Antique Show &amp\; Vintage Market is in its 20th year with the next event scheduled for October 10 and 11\, 2025. At home once again at the Prescott Frontier Days Rodeo Grounds\, the event will host vendors from all around Arizona and surrounding states. The 2-day event opens on Friday from 12-2 (Early Bird - $15) and 2-5 (General Admission - $10)\, and again on Saturday from 8-3 (General Admission- $10). Antiques and collectibles\, vintage clothing\, furniture\, home decor - 3 buildings and outside area stuffed to the brim with made in the USA goods! Visit us at https://www.prescottantiqueshow.com/ and follow us on Facebook and Instagram. Or contact Kathryn 818-679-0723 for general show and vendor information.
LOCATION:Prescott Frontier Days Rodeo Grounds 840 Rodeo Drive\, Prescott Arizona
UID:e.1880.5995
SEQUENCE:3
DTSTAMP:20260421T185653Z
URL:https://business.chinovalley.org/events/details/prescott-antique-show-vintage-market-10-10-2025-5995
END:VEVENT

END:VCALENDAR
