BEGIN:VCALENDAR
VERSION:2.0
PRODID:-//ChamberMaster//Event Calendar 2.0//EN
METHOD:PUBLISH
X-PUBLISHED-TTL:P3D
REFRESH-INTERVAL:P3D
CALSCALE:GREGORIAN
BEGIN:VEVENT
DTSTART:20260207T200000Z
DTEND:20260207T210000Z
X-MICROSOFT-CDO-ALLDAYEVENT:FALSE
SUMMARY:Prescott Computer Society
DESCRIPTION:PRESCOTT COMPUTER SOCIETY   free online Zoom presentation topic on "Smart Photography SIG" presented by Phil Ball from 1:00-2:00 pm. Explore the world of Smartphone photography. This computer society is open to all who wish to learn more and is available to anyone\, including non-members\, who wish to join us online. Participants who wish to attend\, need to receive their Zoom connection information by registering on our website at www.pcs4me.com.
X-ALT-DESC;FMTTYPE=text/html:PRESCOTT COMPUTER SOCIETY &ndash\; free online Zoom presentation topic on &ldquo\;Smart Photography SIG&rdquo\; presented by Phil Ball from 1:00-2:00 pm. Explore the world of Smartphone photography. This computer society is open to all who wish to learn more and is available to anyone\, including non-members\, who wish to join us online. Participants who wish to attend\, need to receive their Zoom connection information by registering on our website at www.pcs4me.com.
LOCATION:Zoom Presentation
UID:e.1880.6131
SEQUENCE:3
DTSTAMP:20260422T011315Z
URL:https://business.chinovalley.org/events/details/prescott-computer-society-02-07-2026-6131
END:VEVENT

END:VCALENDAR
